BEGIN:VCALENDAR
VERSION:2.0
PRODID:-//Ely &amp; Witchford Tang Soo Do - ECPv6.15.20//NONSGML v1.0//EN
CALSCALE:GREGORIAN
METHOD:PUBLISH
X-WR-CALNAME:Ely &amp; Witchford Tang Soo Do
X-ORIGINAL-URL:https://elywitchfordtsd.co.uk
X-WR-CALDESC:Events for Ely &amp; Witchford Tang Soo Do
REFRESH-INTERVAL;VALUE=DURATION:PT1H
X-Robots-Tag:noindex
X-PUBLISHED-TTL:PT1H
BEGIN:VTIMEZONE
TZID:Europe/London
BEGIN:DAYLIGHT
TZOFFSETFROM:+0000
TZOFFSETTO:+0100
TZNAME:BST
DTSTART:20250330T010000
END:DAYLIGHT
BEGIN:STANDARD
TZOFFSETFROM:+0100
TZOFFSETTO:+0000
TZNAME:GMT
DTSTART:20251026T010000
END:STANDARD
BEGIN:DAYLIGHT
TZOFFSETFROM:+0000
TZOFFSETTO:+0100
TZNAME:BST
DTSTART:20260329T010000
END:DAYLIGHT
BEGIN:STANDARD
TZOFFSETFROM:+0100
TZOFFSETTO:+0000
TZNAME:GMT
DTSTART:20261025T010000
END:STANDARD
BEGIN:DAYLIGHT
TZOFFSETFROM:+0000
TZOFFSETTO:+0100
TZNAME:BST
DTSTART:20270328T010000
END:DAYLIGHT
BEGIN:STANDARD
TZOFFSETFROM:+0100
TZOFFSETTO:+0000
TZNAME:GMT
DTSTART:20271031T010000
END:STANDARD
END:VTIMEZONE
BEGIN:VEVENT
DTSTART;TZID=Europe/London:20260221T130000
DTEND;TZID=Europe/London:20260221T170000
DTSTAMP:20260419T200235
CREATED:20251207T075602Z
LAST-MODIFIED:20251229T161714Z
UID:2054-1771678800-1771693200@elywitchfordtsd.co.uk
SUMMARY:National Black Belt Presentation Class - Feb 2026
DESCRIPTION: 
URL:https://elywitchfordtsd.co.uk/event/national-black-belt-presentation-class-02-26/
LOCATION:One Leisure St Ives\, Westwood Road\, St Ives\, Cambs\, PE27 6WU\, United Kingdom
CATEGORIES:Presentation,Seminar
ATTACH;FMTTYPE=image/jpeg:https://elywitchfordtsd.co.uk/wp-content/uploads/2025/12/One-Leisure-Front.jpg
END:VEVENT
END:VCALENDAR