BEGIN:VCALENDAR
VERSION:2.0
PRODID:-//Ely &amp; Witchford Tang Soo Do - ECPv6.15.20//NONSGML v1.0//EN
CALSCALE:GREGORIAN
METHOD:PUBLISH
X-ORIGINAL-URL:https://elywitchfordtsd.co.uk
X-WR-CALDESC:Events for Ely &amp; Witchford Tang Soo Do
REFRESH-INTERVAL;VALUE=DURATION:PT1H
X-Robots-Tag:noindex
X-PUBLISHED-TTL:PT1H
BEGIN:VTIMEZONE
TZID:Europe/London
BEGIN:DAYLIGHT
TZOFFSETFROM:+0000
TZOFFSETTO:+0100
TZNAME:BST
DTSTART:20250330T010000
END:DAYLIGHT
BEGIN:STANDARD
TZOFFSETFROM:+0100
TZOFFSETTO:+0000
TZNAME:GMT
DTSTART:20251026T010000
END:STANDARD
BEGIN:DAYLIGHT
TZOFFSETFROM:+0000
TZOFFSETTO:+0100
TZNAME:BST
DTSTART:20260329T010000
END:DAYLIGHT
BEGIN:STANDARD
TZOFFSETFROM:+0100
TZOFFSETTO:+0000
TZNAME:GMT
DTSTART:20261025T010000
END:STANDARD
BEGIN:DAYLIGHT
TZOFFSETFROM:+0000
TZOFFSETTO:+0100
TZNAME:BST
DTSTART:20270328T010000
END:DAYLIGHT
BEGIN:STANDARD
TZOFFSETFROM:+0100
TZOFFSETTO:+0000
TZNAME:GMT
DTSTART:20271031T010000
END:STANDARD
END:VTIMEZONE
BEGIN:VEVENT
DTSTART;TZID=Europe/London:20260531T160000
DTEND;TZID=Europe/London:20260531T180000
DTSTAMP:20260419T182502
CREATED:20251229T064358Z
LAST-MODIFIED:20251229T064552Z
UID:2169-1780243200-1780250400@elywitchfordtsd.co.uk
SUMMARY:National Cho Dan & Cho Dan Bo Class - May 2026
DESCRIPTION:Training with KCN Khan for Cho Dan and Cho Dan Bo’s
URL:https://elywitchfordtsd.co.uk/event/national-cho-dan-amp-cho-dan-bo-class-may-2026/
LOCATION:One Leisure Huntingdon\, St Peters Rd\, Huntingdon\, Cambs\, PE29 7DA\, United Kingdom
CATEGORIES:National Cho Dan & Cho Dan Bo Class
ATTACH;FMTTYPE=image/png:https://elywitchfordtsd.co.uk/wp-content/uploads/2024/11/One-Leisure-Huntingdon.png
END:VEVENT
BEGIN:VEVENT
DTSTART;TZID=Europe/London:20260628T160000
DTEND;TZID=Europe/London:20260628T180000
DTSTAMP:20260419T182502
CREATED:20251229T064622Z
LAST-MODIFIED:20251229T064715Z
UID:2174-1782662400-1782669600@elywitchfordtsd.co.uk
SUMMARY:National Cho Dan & Cho Dan Bo Class - June 2026
DESCRIPTION:Training with KCN Khan for Cho Dan and Cho Dan Bo’s
URL:https://elywitchfordtsd.co.uk/event/national-cho-dan-amp-cho-dan-bo-class-june-2026/
LOCATION:One Leisure Huntingdon\, St Peters Rd\, Huntingdon\, Cambs\, PE29 7DA\, United Kingdom
CATEGORIES:National Cho Dan & Cho Dan Bo Class
ATTACH;FMTTYPE=image/png:https://elywitchfordtsd.co.uk/wp-content/uploads/2024/11/One-Leisure-Huntingdon.png
END:VEVENT
BEGIN:VEVENT
DTSTART;TZID=Europe/London:20260726T160000
DTEND;TZID=Europe/London:20260726T180000
DTSTAMP:20260419T182502
CREATED:20251229T064749Z
LAST-MODIFIED:20251229T064933Z
UID:2177-1785081600-1785088800@elywitchfordtsd.co.uk
SUMMARY:National Cho Dan & Cho Dan Bo Class - July 2026
DESCRIPTION:Training with KCN Khan for Cho Dan and Cho Dan Bo’s
URL:https://elywitchfordtsd.co.uk/event/national-cho-dan-amp-cho-dan-bo-class-july-2026/
LOCATION:One Leisure Huntingdon\, St Peters Rd\, Huntingdon\, Cambs\, PE29 7DA\, United Kingdom
CATEGORIES:National Cho Dan & Cho Dan Bo Class
ATTACH;FMTTYPE=image/png:https://elywitchfordtsd.co.uk/wp-content/uploads/2024/11/One-Leisure-Huntingdon.png
END:VEVENT
BEGIN:VEVENT
DTSTART;TZID=Europe/London:20260927T160000
DTEND;TZID=Europe/London:20260927T180000
DTSTAMP:20260419T182502
CREATED:20251229T065008Z
LAST-MODIFIED:20251229T065448Z
UID:2181-1790524800-1790532000@elywitchfordtsd.co.uk
SUMMARY:National Cho Dan & Cho Dan Bo Class - Sept 2026
DESCRIPTION:Training with KCN Khan for Cho Dan and Cho Dan Bo’s
URL:https://elywitchfordtsd.co.uk/event/national-cho-dan-amp-cho-dan-bo-class-sept-2026/
LOCATION:One Leisure Huntingdon\, St Peters Rd\, Huntingdon\, Cambs\, PE29 7DA\, United Kingdom
CATEGORIES:National Cho Dan & Cho Dan Bo Class
ATTACH;FMTTYPE=image/png:https://elywitchfordtsd.co.uk/wp-content/uploads/2024/11/One-Leisure-Huntingdon.png
END:VEVENT
BEGIN:VEVENT
DTSTART;TZID=Europe/London:20261025T160000
DTEND;TZID=Europe/London:20261025T180000
DTSTAMP:20260419T182502
CREATED:20251229T065116Z
LAST-MODIFIED:20251229T065207Z
UID:2184-1792944000-1792951200@elywitchfordtsd.co.uk
SUMMARY:National Cho Dan & Cho Dan Bo Class - Oct 2026
DESCRIPTION:Training with KCN Khan for Cho Dan and Cho Dan Bo’s
URL:https://elywitchfordtsd.co.uk/event/national-cho-dan-amp-cho-dan-bo-class-oct-2026/
LOCATION:One Leisure Huntingdon\, St Peters Rd\, Huntingdon\, Cambs\, PE29 7DA\, United Kingdom
CATEGORIES:National Cho Dan & Cho Dan Bo Class
ATTACH;FMTTYPE=image/png:https://elywitchfordtsd.co.uk/wp-content/uploads/2024/11/One-Leisure-Huntingdon.png
END:VEVENT
BEGIN:VEVENT
DTSTART;TZID=Europe/London:20261129T160000
DTEND;TZID=Europe/London:20261129T180000
DTSTAMP:20260419T182502
CREATED:20251229T065240Z
LAST-MODIFIED:20251229T065538Z
UID:2187-1795968000-1795975200@elywitchfordtsd.co.uk
SUMMARY:National Cho Dan & Cho Dan Bo Class - Nov 2026
DESCRIPTION:Training with KCN Khan for Cho Dan and Cho Dan Bo’s
URL:https://elywitchfordtsd.co.uk/event/national-cho-dan-amp-cho-dan-bo-class-nov-2026/
LOCATION:One Leisure Huntingdon\, St Peters Rd\, Huntingdon\, Cambs\, PE29 7DA\, United Kingdom
CATEGORIES:National Cho Dan & Cho Dan Bo Class
ATTACH;FMTTYPE=image/png:https://elywitchfordtsd.co.uk/wp-content/uploads/2024/11/One-Leisure-Huntingdon.png
END:VEVENT
END:VCALENDAR