BEGIN:VCALENDAR
VERSION:2.0
PRODID:-//Ely &amp; Witchford Tang Soo Do - ECPv6.15.20//NONSGML v1.0//EN
CALSCALE:GREGORIAN
METHOD:PUBLISH
X-WR-CALNAME:Ely &amp; Witchford Tang Soo Do
X-ORIGINAL-URL:https://elywitchfordtsd.co.uk
X-WR-CALDESC:Events for Ely &amp; Witchford Tang Soo Do
REFRESH-INTERVAL;VALUE=DURATION:PT1H
X-Robots-Tag:noindex
X-PUBLISHED-TTL:PT1H
BEGIN:VTIMEZONE
TZID:Europe/London
BEGIN:DAYLIGHT
TZOFFSETFROM:+0000
TZOFFSETTO:+0100
TZNAME:BST
DTSTART:20230326T010000
END:DAYLIGHT
BEGIN:STANDARD
TZOFFSETFROM:+0100
TZOFFSETTO:+0000
TZNAME:GMT
DTSTART:20231029T010000
END:STANDARD
BEGIN:DAYLIGHT
TZOFFSETFROM:+0000
TZOFFSETTO:+0100
TZNAME:BST
DTSTART:20240331T010000
END:DAYLIGHT
BEGIN:STANDARD
TZOFFSETFROM:+0100
TZOFFSETTO:+0000
TZNAME:GMT
DTSTART:20241027T010000
END:STANDARD
BEGIN:DAYLIGHT
TZOFFSETFROM:+0000
TZOFFSETTO:+0100
TZNAME:BST
DTSTART:20250330T010000
END:DAYLIGHT
BEGIN:STANDARD
TZOFFSETFROM:+0100
TZOFFSETTO:+0000
TZNAME:GMT
DTSTART:20251026T010000
END:STANDARD
BEGIN:DAYLIGHT
TZOFFSETFROM:+0000
TZOFFSETTO:+0100
TZNAME:BST
DTSTART:20260329T010000
END:DAYLIGHT
BEGIN:STANDARD
TZOFFSETFROM:+0100
TZOFFSETTO:+0000
TZNAME:GMT
DTSTART:20261025T010000
END:STANDARD
END:VTIMEZONE
BEGIN:VEVENT
DTSTART;TZID=Europe/London:20250302T160000
DTEND;TZID=Europe/London:20250302T180000
DTSTAMP:20260420T090929
CREATED:20241217T063643Z
LAST-MODIFIED:20241217T063734Z
UID:1192-1740931200-1740938400@elywitchfordtsd.co.uk
SUMMARY:National Masters\, Instructors\, Sam & E Dan Class - Mar 2025
DESCRIPTION: 
URL:https://elywitchfordtsd.co.uk/event/national-masters-instructors-sam-e-class-03-25/
LOCATION:One Leisure Huntingdon\, St Peters Rd\, Huntingdon\, Cambs\, PE29 7DA\, United Kingdom
CATEGORIES:National Masters, Instructors, Sam & E Dan Class
ATTACH;FMTTYPE=image/png:https://elywitchfordtsd.co.uk/wp-content/uploads/2024/11/One-Leisure-Huntingdon.png
END:VEVENT
BEGIN:VEVENT
DTSTART;TZID=Europe/London:20250223T160000
DTEND;TZID=Europe/London:20250223T180000
DTSTAMP:20260420T090929
CREATED:20241216T061722Z
LAST-MODIFIED:20241216T061839Z
UID:1161-1740326400-1740333600@elywitchfordtsd.co.uk
SUMMARY:National Cho Dan & Cho Dan Bo Class - Feb 2025
DESCRIPTION: 
URL:https://elywitchfordtsd.co.uk/event/national-cho-dan-cho-dan-bo-class-02-25/
LOCATION:One Leisure Huntingdon\, St Peters Rd\, Huntingdon\, Cambs\, PE29 7DA\, United Kingdom
CATEGORIES:National Cho Dan & Cho Dan Bo Class
ATTACH;FMTTYPE=image/png:https://elywitchfordtsd.co.uk/wp-content/uploads/2024/11/One-Leisure-Huntingdon.png
END:VEVENT
BEGIN:VEVENT
DTSTART;TZID=Europe/London:20250125T130000
DTEND;TZID=Europe/London:20250125T170000
DTSTAMP:20260420T090929
CREATED:20241216T070043Z
LAST-MODIFIED:20241216T070447Z
UID:1178-1737810000-1737824400@elywitchfordtsd.co.uk
SUMMARY:National Black Belt Presentation Class - Jan 2025
DESCRIPTION: 
URL:https://elywitchfordtsd.co.uk/event/national-black-belt-presentation-class-01-25/
LOCATION:One Leisure St Ives\, Westwood Road\, St Ives\, Cambs\, PE27 6WU\, United Kingdom
CATEGORIES:National Masters, Instructors, Sam & E Dan Class
END:VEVENT
BEGIN:VEVENT
DTSTART;TZID=Europe/London:20241215T130000
DTEND;TZID=Europe/London:20241215T180000
DTSTAMP:20260420T090929
CREATED:20241102T151825Z
LAST-MODIFIED:20241211T104255Z
UID:637-1734267600-1734285600@elywitchfordtsd.co.uk
SUMMARY:Gup Grading - Dec 2024
DESCRIPTION:Grading for all gup grades.White belts to arrive at 12.50pm\, to start at 1.00pm. Orange belts to arrive 13.50pm and wait in corridor until asked to enter hall.Green belts to arrive for terminology test 14.15pm. Brown belts to arrive for terminology test 15.15pm. Red belts to arrive for terminology test 16.15pm. We need to clear the hall by 6pm.
URL:https://elywitchfordtsd.co.uk/event/gup-grading-12-24/
LOCATION:One Leisure St Ives\, Westwood Road\, St Ives\, Cambs\, PE27 6WU\, United Kingdom
CATEGORIES:Grading
END:VEVENT
BEGIN:VEVENT
DTSTART;TZID=Europe/London:20241201T160000
DTEND;TZID=Europe/London:20241201T180000
DTSTAMP:20260420T090929
CREATED:20241102T150253Z
LAST-MODIFIED:20241116T115720Z
UID:627-1733068800-1733076000@elywitchfordtsd.co.uk
SUMMARY:National Masters\, Instructors\, Sam & E Dan Class - Dec 2024
DESCRIPTION:
URL:https://elywitchfordtsd.co.uk/event/national-masters-instructors-sam-e-class-12-24/
LOCATION:One Leisure Huntingdon\, St Peters Rd\, Huntingdon\, Cambs\, PE29 7DA\, United Kingdom
CATEGORIES:National Masters, Instructors, Sam & E Dan Class
ATTACH;FMTTYPE=image/png:https://elywitchfordtsd.co.uk/wp-content/uploads/2024/11/One-Leisure-Huntingdon.png
END:VEVENT
BEGIN:VEVENT
DTSTART;TZID=Europe/London:20241124T160000
DTEND;TZID=Europe/London:20241124T180000
DTSTAMP:20260420T090929
CREATED:20241026T140259Z
LAST-MODIFIED:20241116T115813Z
UID:498-1732464000-1732471200@elywitchfordtsd.co.uk
SUMMARY:National Cho Dan & Cho Dan Bo Class - Nov 2024
DESCRIPTION: 
URL:https://elywitchfordtsd.co.uk/event/national-cho-dan-cho-dan-bo-class-11-24/
LOCATION:One Leisure Huntingdon\, St Peters Rd\, Huntingdon\, Cambs\, PE29 7DA\, United Kingdom
CATEGORIES:National Cho Dan & Cho Dan Bo Class
ATTACH;FMTTYPE=image/png:https://elywitchfordtsd.co.uk/wp-content/uploads/2024/11/One-Leisure-Huntingdon.png
END:VEVENT
BEGIN:VEVENT
DTSTART;TZID=Europe/London:20241109T090000
DTEND;TZID=Europe/London:20241109T180000
DTSTAMP:20260420T090929
CREATED:20241102T150749Z
LAST-MODIFIED:20241102T151306Z
UID:629-1731142800-1731175200@elywitchfordtsd.co.uk
SUMMARY:Regional Championship - 2024
DESCRIPTION:
URL:https://elywitchfordtsd.co.uk/event/regional-championship-2024/
LOCATION:Thornbury Leisure Centre\, Alveston Hill\, Thornbury\, Bristol\, BS35 3JB\, United Kingdom
CATEGORIES:Championships
END:VEVENT
BEGIN:VEVENT
DTSTART;TZID=Europe/London:20241103T160000
DTEND;TZID=Europe/London:20241103T180000
DTSTAMP:20260420T090929
CREATED:20241102T145917Z
LAST-MODIFIED:20241116T115852Z
UID:624-1730649600-1730656800@elywitchfordtsd.co.uk
SUMMARY:National Masters\, Instructors\, Sam & E Dan Class - Nov 2024
DESCRIPTION: 
URL:https://elywitchfordtsd.co.uk/event/national-masters-instructors-sam-e-class-11-24/
LOCATION:One Leisure Huntingdon\, St Peters Rd\, Huntingdon\, Cambs\, PE29 7DA\, United Kingdom
CATEGORIES:National Masters, Instructors, Sam & E Dan Class
ATTACH;FMTTYPE=image/png:https://elywitchfordtsd.co.uk/wp-content/uploads/2024/11/One-Leisure-Huntingdon.png
END:VEVENT
BEGIN:VEVENT
DTSTART;TZID=Europe/London:20241027T160000
DTEND;TZID=Europe/London:20241027T180000
DTSTAMP:20260420T090929
CREATED:20241013T085431Z
LAST-MODIFIED:20241116T115915Z
UID:259-1730044800-1730052000@elywitchfordtsd.co.uk
SUMMARY:National Cho Dan & Cho Dan Bo Class - Oct 2024
DESCRIPTION: 
URL:https://elywitchfordtsd.co.uk/event/national-cho-dan-cho-dan-bo-class-10-24/
LOCATION:One Leisure Huntingdon\, St Peters Rd\, Huntingdon\, Cambs\, PE29 7DA\, United Kingdom
CATEGORIES:National Cho Dan & Cho Dan Bo Class
ATTACH;FMTTYPE=image/png:https://elywitchfordtsd.co.uk/wp-content/uploads/2024/11/One-Leisure-Huntingdon.png
END:VEVENT
END:VCALENDAR