BEGIN:VCALENDAR
VERSION:2.0
PRODID:-//Ely &amp; Witchford Tang Soo Do - ECPv6.15.20//NONSGML v1.0//EN
CALSCALE:GREGORIAN
METHOD:PUBLISH
X-ORIGINAL-URL:https://elywitchfordtsd.co.uk
X-WR-CALDESC:Events for Ely &amp; Witchford Tang Soo Do
REFRESH-INTERVAL;VALUE=DURATION:PT1H
X-Robots-Tag:noindex
X-PUBLISHED-TTL:PT1H
BEGIN:VTIMEZONE
TZID:Europe/London
BEGIN:DAYLIGHT
TZOFFSETFROM:+0000
TZOFFSETTO:+0100
TZNAME:BST
DTSTART:20250330T010000
END:DAYLIGHT
BEGIN:STANDARD
TZOFFSETFROM:+0100
TZOFFSETTO:+0000
TZNAME:GMT
DTSTART:20251026T010000
END:STANDARD
BEGIN:DAYLIGHT
TZOFFSETFROM:+0000
TZOFFSETTO:+0100
TZNAME:BST
DTSTART:20260329T010000
END:DAYLIGHT
BEGIN:STANDARD
TZOFFSETFROM:+0100
TZOFFSETTO:+0000
TZNAME:GMT
DTSTART:20261025T010000
END:STANDARD
BEGIN:DAYLIGHT
TZOFFSETFROM:+0000
TZOFFSETTO:+0100
TZNAME:BST
DTSTART:20270328T010000
END:DAYLIGHT
BEGIN:STANDARD
TZOFFSETFROM:+0100
TZOFFSETTO:+0000
TZNAME:GMT
DTSTART:20271031T010000
END:STANDARD
END:VTIMEZONE
BEGIN:VEVENT
DTSTART;TZID=Europe/London:20260913T130000
DTEND;TZID=Europe/London:20260913T170000
DTSTAMP:20260421T183259
CREATED:20251229T063904Z
LAST-MODIFIED:20251229T162008Z
UID:2161-1789304400-1789318800@elywitchfordtsd.co.uk
SUMMARY:Gup Grading - Sept 2026
DESCRIPTION:Grading for all gup grades.
URL:https://elywitchfordtsd.co.uk/event/gup-grading-sept-2026/
LOCATION:One Leisure St Ives\, Westwood Road\, St Ives\, Cambs\, PE27 6WU\, United Kingdom
CATEGORIES:Grading
ATTACH;FMTTYPE=image/jpeg:https://elywitchfordtsd.co.uk/wp-content/uploads/2025/12/One-Leisure-Front.jpg
END:VEVENT
BEGIN:VEVENT
DTSTART;TZID=Europe/London:20260927T160000
DTEND;TZID=Europe/London:20260927T180000
DTSTAMP:20260421T183259
CREATED:20251229T065008Z
LAST-MODIFIED:20251229T065448Z
UID:2181-1790524800-1790532000@elywitchfordtsd.co.uk
SUMMARY:National Cho Dan & Cho Dan Bo Class - Sept 2026
DESCRIPTION:Training with KCN Khan for Cho Dan and Cho Dan Bo’s
URL:https://elywitchfordtsd.co.uk/event/national-cho-dan-amp-cho-dan-bo-class-sept-2026/
LOCATION:One Leisure Huntingdon\, St Peters Rd\, Huntingdon\, Cambs\, PE29 7DA\, United Kingdom
CATEGORIES:National Cho Dan & Cho Dan Bo Class
ATTACH;FMTTYPE=image/png:https://elywitchfordtsd.co.uk/wp-content/uploads/2024/11/One-Leisure-Huntingdon.png
END:VEVENT
END:VCALENDAR