BEGIN:VCALENDAR
VERSION:2.0
PRODID:-//Ely &amp; Witchford Tang Soo Do - ECPv6.15.20//NONSGML v1.0//EN
CALSCALE:GREGORIAN
METHOD:PUBLISH
X-ORIGINAL-URL:https://elywitchfordtsd.co.uk
X-WR-CALDESC:Events for Ely &amp; Witchford Tang Soo Do
REFRESH-INTERVAL;VALUE=DURATION:PT1H
X-Robots-Tag:noindex
X-PUBLISHED-TTL:PT1H
BEGIN:VTIMEZONE
TZID:Europe/London
BEGIN:DAYLIGHT
TZOFFSETFROM:+0000
TZOFFSETTO:+0100
TZNAME:BST
DTSTART:20250330T010000
END:DAYLIGHT
BEGIN:STANDARD
TZOFFSETFROM:+0100
TZOFFSETTO:+0000
TZNAME:GMT
DTSTART:20251026T010000
END:STANDARD
BEGIN:DAYLIGHT
TZOFFSETFROM:+0000
TZOFFSETTO:+0100
TZNAME:BST
DTSTART:20260329T010000
END:DAYLIGHT
BEGIN:STANDARD
TZOFFSETFROM:+0100
TZOFFSETTO:+0000
TZNAME:GMT
DTSTART:20261025T010000
END:STANDARD
BEGIN:DAYLIGHT
TZOFFSETFROM:+0000
TZOFFSETTO:+0100
TZNAME:BST
DTSTART:20270328T010000
END:DAYLIGHT
BEGIN:STANDARD
TZOFFSETFROM:+0100
TZOFFSETTO:+0000
TZNAME:GMT
DTSTART:20271031T010000
END:STANDARD
END:VTIMEZONE
BEGIN:VEVENT
DTSTART;TZID=Europe/London:20260503T160000
DTEND;TZID=Europe/London:20260503T180000
DTSTAMP:20260419T180645
CREATED:20251229T155528Z
LAST-MODIFIED:20251229T155611Z
UID:2199-1777824000-1777831200@elywitchfordtsd.co.uk
SUMMARY:National Masters\, Instructors\, Sam & E Dan Class - May 2026
DESCRIPTION:Training with KCN Khan for Masters\, Instructors\, Sam Dan & E Dan’s
URL:https://elywitchfordtsd.co.uk/event/national-masters-instructors-sam-amp-e-dan-class-may-2026/
LOCATION:One Leisure Huntingdon\, St Peters Rd\, Huntingdon\, Cambs\, PE29 7DA\, United Kingdom
CATEGORIES:National Masters, Instructors, Sam & E Dan Class
ATTACH;FMTTYPE=image/png:https://elywitchfordtsd.co.uk/wp-content/uploads/2024/11/One-Leisure-Huntingdon.png
END:VEVENT
BEGIN:VEVENT
DTSTART;TZID=Europe/London:20260705T160000
DTEND;TZID=Europe/London:20260705T180000
DTSTAMP:20260419T180645
CREATED:20251229T155659Z
LAST-MODIFIED:20251229T155738Z
UID:2202-1783267200-1783274400@elywitchfordtsd.co.uk
SUMMARY:National Masters\, Instructors\, Sam & E Dan Class - July 2026
DESCRIPTION:Training with KCN Khan for Masters\, Instructors\, Sam Dan & E Dan’s
URL:https://elywitchfordtsd.co.uk/event/national-masters-instructors-sam-amp-e-dan-class-july-2026/
LOCATION:One Leisure Huntingdon\, St Peters Rd\, Huntingdon\, Cambs\, PE29 7DA\, United Kingdom
CATEGORIES:National Masters, Instructors, Sam & E Dan Class
ATTACH;FMTTYPE=image/png:https://elywitchfordtsd.co.uk/wp-content/uploads/2024/11/One-Leisure-Huntingdon.png
END:VEVENT
BEGIN:VEVENT
DTSTART;TZID=Europe/London:20260829T090000
DTEND;TZID=Europe/London:20260829T170000
DTSTAMP:20260419T180645
CREATED:20251229T160401Z
LAST-MODIFIED:20251229T161055Z
UID:2211-1787994000-1788022800@elywitchfordtsd.co.uk
SUMMARY:Dan Presentation + Dan & Gup Clinic - August 2026
DESCRIPTION:Black belt presentation and clinic
URL:https://elywitchfordtsd.co.uk/event/dan-presentation-dan-gup-clinic-august-2026/
LOCATION:David Ross Sports Village\, University of Nottingham\, Beeston Lane\, Nottingham\, Nottingham\, NG7 2RD\, United Kingdom
CATEGORIES:Presentation,Seminar
ATTACH;FMTTYPE=image/jpeg:https://elywitchfordtsd.co.uk/wp-content/uploads/2025/12/david-ross-exterieor-2022-2.xb71321cf.jpg
END:VEVENT
BEGIN:VEVENT
DTSTART;TZID=Europe/London:20261004T160000
DTEND;TZID=Europe/London:20261004T180000
DTSTAMP:20260419T180645
CREATED:20251229T155803Z
LAST-MODIFIED:20251229T155848Z
UID:2205-1791129600-1791136800@elywitchfordtsd.co.uk
SUMMARY:National Masters\, Instructors\, Sam & E Dan Class - Oct 2026
DESCRIPTION:Training with KCN Khan for Masters\, Instructors\, Sam Dan & E Dan’s
URL:https://elywitchfordtsd.co.uk/event/national-masters-instructors-sam-amp-e-dan-class-oct-2026/
LOCATION:One Leisure Huntingdon\, St Peters Rd\, Huntingdon\, Cambs\, PE29 7DA\, United Kingdom
CATEGORIES:National Masters, Instructors, Sam & E Dan Class
ATTACH;FMTTYPE=image/png:https://elywitchfordtsd.co.uk/wp-content/uploads/2024/11/One-Leisure-Huntingdon.png
END:VEVENT
BEGIN:VEVENT
DTSTART;TZID=Europe/London:20261206T160000
DTEND;TZID=Europe/London:20261206T180000
DTSTAMP:20260419T180645
CREATED:20251229T155916Z
LAST-MODIFIED:20251229T155952Z
UID:2208-1796572800-1796580000@elywitchfordtsd.co.uk
SUMMARY:National Masters\, Instructors\, Sam & E Dan Class - Dec 2026
DESCRIPTION:Training with KCN Khan for Masters\, Instructors\, Sam Dan & E Dan’s
URL:https://elywitchfordtsd.co.uk/event/national-masters-instructors-sam-amp-e-dan-class-dec-2026/
LOCATION:One Leisure Huntingdon\, St Peters Rd\, Huntingdon\, Cambs\, PE29 7DA\, United Kingdom
CATEGORIES:National Masters, Instructors, Sam & E Dan Class
ATTACH;FMTTYPE=image/png:https://elywitchfordtsd.co.uk/wp-content/uploads/2024/11/One-Leisure-Huntingdon.png
END:VEVENT
END:VCALENDAR